BEGIN:VCALENDAR
PRODID:-//Macron Software//NONSGML WebToDate//EN
VERSION:2.0
METHOD:publish
BEGIN:VEVENT
DTSTAMP:20260421T112835
DTSTART:20240904T000000
DTEND:20240904T235959
LOCATION:
DESCRIPTION:




SUMMARY:Bilaterální jednání s prezidentem SAI Slovenska 
CLASS:PUBLIC
END:VEVENT
END:VCALENDAR